BEGIN:VCALENDAR
VERSION:2.0
PRODID:-//eventon.com NONSGML v1.0//EN
CALSCALE:GREGORIAN
METHOD:PUBLISH
BEGIN:VEVENT
UID:69e73b1a6ecca
DTSTAMP:20260421T085346Z
DTSTART:20250220T160000Z
DTEND:20250220T194500Z
LOCATION:
SUMMARY:Felelősségteljes újságírás a diszkrimináció és a gyűlöletkeltés ellen – műhelyfoglalkozás
DESCRIPTION:Bővebben itt: https://muosz.hu/2025/01/24/a-gyuloletbeszed-es
 -a-dezinformacio-kezelese/\nhttps://muosz.hu/events/felelossegteljes-ujsagi
 ras-a-diszkriminacio-es-a-gyuloletkeltes-ellen-muhelyfoglalkozas/
URL:https://muosz.hu/events/felelossegteljes-ujsagiras-a-diszkriminacio-es-a-gyuloletkeltes-ellen-muhelyfoglalkozas/
END:VEVENT
END:VCALENDAR