BEGIN:VCALENDAR
VERSION:2.0
PRODID:-//eventon.com NONSGML v1.0//EN
CALSCALE:GREGORIAN
METHOD:PUBLISH
BEGIN:VEVENT
UID:69e88670dadef
DTSTAMP:20260422T082728Z
DTSTART:20241203T120000Z
DTEND:20241203T170000Z
LOCATION:
SUMMARY:Kávézz az elnökkel
DESCRIPTION:Bővebben itt: https://muosz.hu/2024/11/28/kavezz-az-elnokkel-
 december-3-an/\nhttps://muosz.hu/events/kavezz-az-elnokkel-6/
URL:https://muosz.hu/events/kavezz-az-elnokkel-6/
END:VEVENT
END:VCALENDAR