BEGIN:VCALENDAR
VERSION:2.0
PRODID:-//eventon.com NONSGML v1.0//EN
CALSCALE:GREGORIAN
METHOD:PUBLISH
BEGIN:VEVENT
UID:69e8883f295c7
DTSTAMP:20260422T083511Z
DTSTART:20241121T170000Z
DTEND:20241121T190000Z
LOCATION:
SUMMARY:Egy esemény\,  két előadás – a KPRSZ estje
DESCRIPTION:Bővebben itt: https://muosz.hu/2024/11/08/egy-esemeny-ket-elo
 adas-a-kprsz-estje/\nhttps://muosz.hu/events/egy-esemeny-ket-eloadas-a-kprs
 z-estje/
URL:https://muosz.hu/events/egy-esemeny-ket-eloadas-a-kprsz-estje/
END:VEVENT
END:VCALENDAR