BEGIN:VCALENDAR
VERSION:2.0
PRODID:-//eventon.com NONSGML v1.0//EN
CALSCALE:GREGORIAN
METHOD:PUBLISH
BEGIN:VEVENT
UID:69e89a46d0630
DTSTAMP:20260422T095206Z
DTSTART:20241029T100000Z
DTEND:20241029T103000Z
LOCATION:
SUMMARY:Benedek István Gábor emléktáblájának avatása
DESCRIPTION:Bővebben itt: https://muosz.hu/2024/10/20/emlektabla-benedek-
 istvan-gabornak/\nhttps://muosz.hu/events/benedek-istvan-gabor-emlektablaja
 nak-avatasa/
URL:https://muosz.hu/events/benedek-istvan-gabor-emlektablajanak-avatasa/
END:VEVENT
END:VCALENDAR