BEGIN:VCALENDAR
VERSION:2.0
PRODID:-//eventon.com NONSGML v1.0//EN
CALSCALE:GREGORIAN
METHOD:PUBLISH
BEGIN:VEVENT
UID:69e737c412d67
DTSTAMP:20260421T083932Z
DTSTART:20241009T170000Z
DTEND:20241009T183000Z
LOCATION:
SUMMARY:Mikor megyünk a Marsra? – pódiumbeszélgetés
DESCRIPTION:Bővebben itt: https://muosz.hu/2024/09/26/mikor-megyunk-a-mar
 sra-podiumbeszelgetes/\nhttps://muosz.hu/events/mikor-megyunk-a-marsra-podi
 umbeszelgetes/
URL:https://muosz.hu/events/mikor-megyunk-a-marsra-podiumbeszelgetes/
END:VEVENT
END:VCALENDAR