BEGIN:VCALENDAR
VERSION:2.0
PRODID:-//eventon.com NONSGML v1.0//EN
CALSCALE:GREGORIAN
METHOD:PUBLISH
BEGIN:VEVENT
UID:69e89a46c2ce4
DTSTAMP:20260422T095206Z
DTSTART:20240508T170000Z
DTEND:20240508T183000Z
LOCATION:
SUMMARY:Építészetkommunikáció – Mégis kinek a felelőssége?
DESCRIPTION:Szerda esték a MÚOSZ-ban – A MÚOSZ és a TÚK közös rend
 ezvénye Bővebben itt: https://muosz.hu/2024/04/16/epiteszetkommunikacio-
 megis-kinek-a-felelossege/\nhttps://muosz.hu/events/epiteszetkommunikacio-m
 egis-kinek-a-felelossege/
URL:https://muosz.hu/events/epiteszetkommunikacio-megis-kinek-a-felelossege/
END:VEVENT
END:VCALENDAR