BEGIN:VCALENDAR
VERSION:2.0
PRODID:-//eventon.com NONSGML v1.0//EN
CALSCALE:GREGORIAN
METHOD:PUBLISH
BEGIN:VEVENT
UID:69e89a40c1897
DTSTAMP:20260422T095200Z
DTSTART:20231017T160000Z
DTEND:20231017T173000Z
LOCATION:
SUMMARY:Devizahitelek és a Schadl-ügy
DESCRIPTION:Dr. Marczingós László ügyvéd előadása A Társadalompolit
 ikai Szakosztály szervezésében\nhttps://muosz.hu/events/devizahitelek-es
 -a-schadl-ugy/
URL:https://muosz.hu/events/devizahitelek-es-a-schadl-ugy/
END:VEVENT
END:VCALENDAR