BEGIN:VCALENDAR
VERSION:2.0
PRODID:-//eventon.com NONSGML v1.0//EN
CALSCALE:GREGORIAN
METHOD:PUBLISH
BEGIN:VEVENT
UID:69e89a40c1c7e
DTSTAMP:20260422T095200Z
DTSTART:20250415T180000Z
DTEND:20250415T193000Z
LOCATION:
SUMMARY:Könyvvé vált történetek: képeink útja a könyvespolcig – A MÚOSZ Műhely nyilvános rendezvénye
DESCRIPTION:Bővebben itt: https://muosz.hu/2025/04/08/konyvve-valt-torten
 etek-kepeink-utja-a-konyvespolcig-a-muosz-muhely-nyilvanos-rendezvenye/\nht
 tps://muosz.hu/events/konyvve-valt-tortenetek-kepeink-utja-a-konyvespolcig-
 a-muosz-muhely-nyilvanos-rendezvenye/
URL:https://muosz.hu/events/konyvve-valt-tortenetek-kepeink-utja-a-konyvespolcig-a-muosz-muhely-nyilvanos-rendezvenye/
END:VEVENT
END:VCALENDAR